BEGIN:VCALENDAR
VERSION:2.0
PRODID:-//RAW2PURE - ECPv6.15.20//NONSGML v1.0//EN
CALSCALE:GREGORIAN
METHOD:PUBLISH
X-WR-CALNAME:RAW2PURE
X-ORIGINAL-URL:https://raw2pure.co.uk
X-WR-CALDESC:Events for RAW2PURE
REFRESH-INTERVAL;VALUE=DURATION:PT1H
X-Robots-Tag:noindex
X-PUBLISHED-TTL:PT1H
BEGIN:VTIMEZONE
TZID:Europe/London
BEGIN:DAYLIGHT
TZOFFSETFROM:+0000
TZOFFSETTO:+0100
TZNAME:BST
DTSTART:20250330T010000
END:DAYLIGHT
BEGIN:STANDARD
TZOFFSETFROM:+0100
TZOFFSETTO:+0000
TZNAME:GMT
DTSTART:20251026T010000
END:STANDARD
BEGIN:DAYLIGHT
TZOFFSETFROM:+0000
TZOFFSETTO:+0100
TZNAME:BST
DTSTART:20260329T010000
END:DAYLIGHT
BEGIN:STANDARD
TZOFFSETFROM:+0100
TZOFFSETTO:+0000
TZNAME:GMT
DTSTART:20261025T010000
END:STANDARD
BEGIN:DAYLIGHT
TZOFFSETFROM:+0000
TZOFFSETTO:+0100
TZNAME:BST
DTSTART:20270328T010000
END:DAYLIGHT
BEGIN:STANDARD
TZOFFSETFROM:+0100
TZOFFSETTO:+0000
TZNAME:GMT
DTSTART:20271031T010000
END:STANDARD
END:VTIMEZONE
BEGIN:VEVENT
DTSTART;TZID=Europe/London:20260509T100000
DTEND;TZID=Europe/London:20260509T170000
DTSTAMP:20260422T070530
CREATED:20241014T153047Z
LAST-MODIFIED:20260206T111332Z
UID:4318-1778320800-1778346000@raw2pure.co.uk
SUMMARY:Holistic Fair
DESCRIPTION:
URL:https://raw2pure.co.uk/event/harmony-health-holistic-fair-2/
LOCATION:Upwey Wishing Well\, Wishing Well Cottage\, Weymouth\, Dorset\, DT3 5QE\, United Kingdom
CATEGORIES:Fayre,Health & Wellbeing,Mind, Body & Spirit
ATTACH;FMTTYPE=image/png:https://raw2pure.co.uk/wp-content/uploads/2024/10/Holistic-Fair.png
END:VEVENT
END:VCALENDAR